BEGIN:VCALENDAR
VERSION:2.0
PRODID:-//Daikin Norway - ECPv6.15.20//NONSGML v1.0//EN
CALSCALE:GREGORIAN
METHOD:PUBLISH
X-ORIGINAL-URL:https://daikin.no
X-WR-CALDESC:Arrangement for Daikin Norway
REFRESH-INTERVAL;VALUE=DURATION:PT1H
X-Robots-Tag:noindex
X-PUBLISHED-TTL:PT1H
BEGIN:VTIMEZONE
TZID:UTC
BEGIN:STANDARD
TZOFFSETFROM:+0000
TZOFFSETTO:+0000
TZNAME:UTC
DTSTART:20220101T000000
END:STANDARD
END:VTIMEZONE
BEGIN:VEVENT
DTSTART;TZID=UTC:20251021T080000
DTEND;TZID=UTC:20251021T200000
DTSTAMP:20260421T100302
CREATED:20251017T060126Z
LAST-MODIFIED:20251017T081806Z
UID:10000227-1761033600-1761076800@daikin.no
SUMMARY:Varmepumpedag hos Nekas
DESCRIPTION:Bli med og feir den internasjonale varmepumpedagen hos Nekas!\nTirsdag 21. oktober markerer vi den internasjonale varmepumpedagen sammen med Daikin hos Nekas på Årnes. Denne dagen feirer vi varmepumpeteknologien som bidrar til lavere strømforbruk\, høy komfort og et mer bærekraftig hjem – løsninger som gjør en forskjell både for deg og for miljøet. \nFra klokken 08:00 til 20:00 holder vi dørene åpne i butikken vår\, og du er hjertelig velkommen innom for en prat med våre varmepumpeeksperter. Her får du tips til hvordan du kan redusere energikostnadene i boligen din\, og du kan gjøre en god handel på varmepumpe fra Daikin og flere andre kjente merker. \nVi serverer kaffe og nystekte vafler\, og sørger for en hyggelig og uformell stemning – perfekt anledning til å stikke innom på vei til eller fra jobb. \nArrangementet finner sted hos Nekas\, Sagvegen 2\, Årnes.\nTa turen innom og bli med på feiringen av den internasjonale varmepumpedagen – en dag viet til smartere oppvarming\, bedre inneklima og bærekraftige valg for fremtiden. \nRekker du ikke innom oss?\nFyll ut skjema nedenfor \n\n\n                \n                        \n							"*" obligatorisk felt \n                        \n                        Jeg ønsker...*\n								\n								Pristilbud\n							\n								\n								Gratis befaring\n							\n								\n								Service på varmepumpe\n							\n								\n								Informasjon\n							Produkttype*\n								\n								Luft/Luft (Mest vanlig)\n							\n								\n								Luft/Vann\n							\n								\n								Væske/Vann (Bergvarme)\n							\n								\n								Næring/Industri\n							\n								\n								Service på varmepumpe\n							\n								\n								Informasjon\n							FinansieringØnsker du tilbud på 24 måneder delbetaling av varmepumpen? \nKlikk her for mer informasjon\n								\n								Ja\, jeg ønsker tilbud på 24 måneder delbetaling\n							Navn*Gateadresse*Postnr.*Poststed*E-post*\n                            \n                        Telefon*Kommentar
URL:https://daikin.no/event/varmepumpedag-hos-nekas/
LOCATION:Nekas\, Sagvegen 2\, Årnes\, 2150
CATEGORIES:Eidsvoll,Romerike
ATTACH;FMTTYPE=image/jpeg:https://daikin.no/wp-content/uploads/2025/10/heat-pump-day-03.jpg
END:VEVENT
BEGIN:VEVENT
DTSTART;VALUE=DATE:20250807
DTEND;VALUE=DATE:20250818
DTSTAMP:20260421T100302
CREATED:20250723T111250Z
LAST-MODIFIED:20250723T111250Z
UID:10000214-1754524800-1755475199@daikin.no
SUMMARY:Jessheimdagene
DESCRIPTION:Nekas er til stede på Jessheimdagene! Kom innom standen vår for en hyggelig prat og gode tilbud på varmepumper\, aircondition og energieffektive løsninger. Våre eksperter står klare til å svare på spørsmål og hjelpe deg med å finne den beste løsningen for ditt hjem. Vi sees på Jessheimdagene! \n\nIkke anledning til å besøke oss? Ta kontakt for et godt tilbud eller gratis befaring\n\n                \n                        \n							"*" obligatorisk felt \n                        \n                        Jeg ønsker...*\n								\n								Pristilbud\n							\n								\n								Gratis befaring\n							\n								\n								Service på varmepumpe\n							\n								\n								Informasjon\n							Produkttype*\n								\n								Luft/Luft (Mest vanlig)\n							\n								\n								Luft/Vann\n							\n								\n								Væske/Vann (Bergvarme)\n							\n								\n								Næring/Industri\n							\n								\n								Service på varmepumpe\n							\n								\n								Informasjon\n							FinansieringØnsker du tilbud på 24 måneder delbetaling av varmepumpen? \nKlikk her for mer informasjon\n								\n								Ja\, jeg ønsker tilbud på 24 måneder delbetaling\n							Navn*Gateadresse*Postnr.*Poststed*E-post*\n                            \n                        Telefon*Kommentar
URL:https://daikin.no/event/jessheimdagene-3/
LOCATION:Jessheimdagene\, Storgata\, Jessheim\, 2050
CATEGORIES:Romerike
ATTACH;FMTTYPE=image/jpeg:https://daikin.no/wp-content/uploads/2022/06/Events_1000x1000px_01.jpg
END:VEVENT
BEGIN:VEVENT
DTSTART;VALUE=DATE:20250519
DTEND;VALUE=DATE:20250525
DTSTAMP:20260421T100302
CREATED:20250506T051817Z
LAST-MODIFIED:20250506T052647Z
UID:10000206-1747612800-1748131199@daikin.no
SUMMARY:Varmepumpe Tour med Daikin & Nekas
DESCRIPTION:Ikke gå glipp av årets største varmepumpeturne!\n19. mai legger Daikin og Nekas ut på turne. Det blir aktiviteter\, premier og ikke minst sommerkampanje på både aircondition og varmepumper fra Daikin. Dette vil du ikke gå glipp av! Er du usikker på plassering av varmepumpa? Vi hjelper deg med å finne den rette plasseringen. Kom innom for et godt tilbud og en GRATIS befaring. \n19. Mai  Alti Bjørkelangen\n20. Mai  Sørumsand Senter Attivo\n21. Mai  Nannestad Torg\n22. Mai  Jessheim Storsenter\n23. Mai  Amfi Råholt\n24. Mai  Biltema Kongsvinger (Otto Robsahm kommer) \nVil du møte Otto Robsahm?\nVi får besøk av storsjarmøren Otto Robsahm og han vil være med oss hele dagen på Kongsvinger 24. mai. Otto Robsahm er vår ekspert på energieffektive løsninger og deler sine beste tips for å modernisere hjemmet ditt. Få personlig veiledning om de nyeste innovasjonene fra Daikin og oppdag hvordan du kan skape et mer komfortabelt og energibesparende bomiljø. Det blir også tid til oppussingstips så dette blir garantert en inspirerende opplevelse! \nKjøp varmepumpe\, få med en GRATIS luftrenser\nDe første 3 som handler en Daikin varmepumpe på hvert av stedene vi besøker får med en GRATIS Daikin luftrenser til verdi av Kr 6 000\,-. Daikin MC55W luftrenser gir effektiv luftrensing takket være Daikins unike Flash Streamer-teknologi og HEPA-filter. Stillegående\, lavt vedlikehold og dekker opptil 82 m². \n\n \n\nLokal trygghet – Nekas\nNekas leverer energieffektive varmepumper fra Daikin til både bolig og næring. Med solid erfaring og fokus på kvalitet\, sørger vi for riktig løsning\, profesjonell montering og trygg oppfølging – hele veien fra rådgivning til ferdig installasjon. \nTrenger du service på varmepumpa?\nTrenger du service på varmepumpa di? Vi utfører service på alle merker. \nMat & Drikke\nVi serverer mat og drikke hele dagen. Ta en pause\, slå av en hyggelig prat og få gode tips om varmepumper. Vi svarer på spørsmål og hjelper deg med det du lurer på. \nHåper vi sees! \n\nGå til Facebook eventet\n\nIkke anledning til å besøke oss? Ta kontakt for et godt tilbud eller gratis befaring\n\n                \n                        \n							"*" obligatorisk felt \n                        \n                        Jeg ønsker...*\n								\n								Pristilbud\n							\n								\n								Gratis befaring\n							\n								\n								Service på varmepumpe\n							\n								\n								Informasjon\n							Produkttype*\n								\n								Luft/Luft (Mest vanlig)\n							\n								\n								Luft/Vann\n							\n								\n								Væske/Vann (Bergvarme)\n							\n								\n								Næring/Industri\n							\n								\n								Service på varmepumpe\n							\n								\n								Informasjon\n							FinansieringØnsker du tilbud på 24 måneder delbetaling av varmepumpen? \nKlikk her for mer informasjon\n								\n								Ja\, jeg ønsker tilbud på 24 måneder delbetaling\n							Navn*Gateadresse*Postnr.*Poststed*E-post*\n                            \n                        Telefon*Kommentar
URL:https://daikin.no/event/varmepumpe-tour-med-daikin-nekas/
CATEGORIES:Eidsvoll,Finnskogen,Hadeland,Kongsvinger,Nordre Follo,Oslo,Romerike
ATTACH;FMTTYPE=image/jpeg:https://daikin.no/wp-content/uploads/2022/06/Events_1000x1000px_01.jpg
END:VEVENT
BEGIN:VEVENT
DTSTART;VALUE=DATE:20240823
DTEND;VALUE=DATE:20240825
DTSTAMP:20260421T100302
CREATED:20240605T094720Z
LAST-MODIFIED:20240605T094720Z
UID:10000138-1724371200-1724543999@daikin.no
SUMMARY:Råholtdagene
DESCRIPTION:Vi ønsker deg velkommen til Daikin-utstillingen på Råholtdagene i Råholt-sentrum. Enten du ser etter en ny Daikin-varmepumpe eller aircondition\, er du velkommen til å besøke Daikin-standen for gode tilbud og faglig veiledning. Vi ser frem til å hilse på deg og svare på eventuelle spørsmål du måtte ha om våre produkter. \nIkke anledning til å besøke oss? Ta kontakt for en gratis befaring\nGratis befaring\n×Gratis befaring \n\n                \n                        \n                             \n							"*" obligatorisk felt \n                        \n                        Jeg ønsker...*\n								\n								Pristilbud\n							\n								\n								Gratis befaring (anbefalt for nøyaktig pris)\n							Produkttype*\n								\n								Luft/Luft (Mest vanlig)\n							\n								\n								Luft/Vann\n							\n								\n								Væske/Vann (Bergvarme)\n							\n								\n								Næring/Industri\n							\n								\n								Service på varmepumpe\n							FinansieringØnsker du tilbud på 24 måneder delbetaling av varmepumpen? \nKlikk her for mer informasjon\n								\n								Ja\, jeg ønsker tilbud på 24 måneder delbetaling\n							Navn*Gateadresse*Postnr.*Poststed*E-post*\n                            \n                        Telefon*KommentarRaskt svar fra lokal forhandler – gratis og uforpliktende\n          \n            \n            \n            \n            \n            \n            \n            \n            \n            \n            \n            \n            \n            \n        \n                        \n                        \n\nClose
URL:https://daikin.no/event/raholtdagene-3/
LOCATION:Råholtdagene\, Sentrum\, Råholt
CATEGORIES:Eidsvoll,Romerike
ATTACH;FMTTYPE=image/jpeg:https://daikin.no/wp-content/uploads/2022/06/Events_1000x1000px_01.jpg
END:VEVENT
BEGIN:VEVENT
DTSTART;VALUE=DATE:20240810
DTEND;VALUE=DATE:20240812
DTSTAMP:20260421T100302
CREATED:20240508T092337Z
LAST-MODIFIED:20240508T092337Z
UID:10000133-1723248000-1723420799@daikin.no
SUMMARY:Jessheimdagene
DESCRIPTION:Vi ønsker deg velkommen til Daikin-utstillingen på Jessheimdagene i Jessheim-sentrum. Enten du ser etter en ny Daikin-varmepumpe eller aircondition\, er du velkommen til å besøke Daikin-standen for gode tilbud og faglig veiledning. Vi ser frem til å hilse på deg og svare på eventuelle spørsmål du måtte ha om våre produkter. \nIkke anledning til å besøke oss? Ta kontakt for en gratis befaring\nGratis befaring\n×Gratis befaring \n\n                \n                        \n                             \n							"*" obligatorisk felt \n                        \n                        Jeg ønsker...*\n								\n								Pristilbud\n							\n								\n								Gratis befaring (anbefalt for nøyaktig pris)\n							Produkttype*\n								\n								Luft/Luft (Mest vanlig)\n							\n								\n								Luft/Vann\n							\n								\n								Væske/Vann (Bergvarme)\n							\n								\n								Næring/Industri\n							\n								\n								Service på varmepumpe\n							FinansieringØnsker du tilbud på 24 måneder delbetaling av varmepumpen? \nKlikk her for mer informasjon\n								\n								Ja\, jeg ønsker tilbud på 24 måneder delbetaling\n							Navn*Gateadresse*Postnr.*Poststed*E-post*\n                            \n                        Telefon*KommentarRaskt svar fra lokal forhandler – gratis og uforpliktende\n          \n            \n            \n            \n            \n            \n            \n            \n            \n            \n            \n            \n            \n            \n        \n                        \n                        \n\nClose
URL:https://daikin.no/event/jessheimdagene-2/
LOCATION:Jessheimdagene\, Storgata\, Jessheim\, 2050
CATEGORIES:Romerike
ATTACH;FMTTYPE=image/jpeg:https://daikin.no/wp-content/uploads/2022/06/Events_1000x1000px_01.jpg
END:VEVENT
BEGIN:VEVENT
DTSTART;VALUE=DATE:20240704
DTEND;VALUE=DATE:20240706
DTSTAMP:20260421T100302
CREATED:20240704T123346Z
LAST-MODIFIED:20240704T123346Z
UID:10000156-1720051200-1720223999@daikin.no
SUMMARY:Amfi Eidsvoll
DESCRIPTION:Vi ønsker deg velkommen til Daikin-utstillingen utenfor Amfi Eidsvoll. Enten du ser etter en ny Daikin-varmepumpe eller aircondition\, er du velkommen til å besøke Daikin-standen for gode tilbud og faglig veiledning. Vi ser frem til å hilse på deg og svare på eventuelle spørsmål du måtte ha om våre produkter. \nIkke anledning til å besøke oss? Ta kontakt for en gratis befaring\nGratis befaring\n×Gratis befaring \n\n                \n                        \n                             \n							"*" obligatorisk felt \n                        \n                        Jeg ønsker...*\n								\n								Pristilbud\n							\n								\n								Gratis befaring (anbefalt for nøyaktig pris)\n							Produkttype*\n								\n								Luft/Luft (Mest vanlig)\n							\n								\n								Luft/Vann\n							\n								\n								Væske/Vann (Bergvarme)\n							\n								\n								Næring/Industri\n							\n								\n								Service på varmepumpe\n							FinansieringØnsker du tilbud på 24 måneder delbetaling av varmepumpen? \nKlikk her for mer informasjon\n								\n								Ja\, jeg ønsker tilbud på 24 måneder delbetaling\n							Navn*Gateadresse*Postnr.*Poststed*E-post*\n                            \n                        Telefon*KommentarRaskt svar fra lokal forhandler – gratis og uforpliktende\n          \n            \n            \n            \n            \n            \n            \n            \n            \n            \n            \n            \n            \n            \n        \n                        \n                        \n\nClose
URL:https://daikin.no/event/amfi-eidsvoll/
LOCATION:Amfi Eidsvoll\, Gladbakkvegen 1\, Råholt\, 2070
CATEGORIES:Eidsvoll
ATTACH;FMTTYPE=image/jpeg:https://daikin.no/wp-content/uploads/2022/06/Events_1000x1000px_01.jpg
END:VEVENT
BEGIN:VEVENT
DTSTART;VALUE=DATE:20230812
DTEND;VALUE=DATE:20230814
DTSTAMP:20260421T100302
CREATED:20230706T100759Z
LAST-MODIFIED:20230807T092321Z
UID:10000090-1691798400-1691971199@daikin.no
SUMMARY:Jessheimdagene
DESCRIPTION:Nekas inviterer til Daikin utstilling på Jessheimdagene. Så om du er på jakt etter ny Daikin varmepumpe eller aircondition er det bare å ta turen innom Daikin varmepumpestanden for et godt varmepumpetilbud eller bare for en hyggelig varmepumpeprat. \nÅPNINGSTIDER\nLørdag: 11:00-18:00\nSøndag: 11:00-18:00 \nIkke anledning til å besøke oss? Ta kontakt for en gratis befaring\nGratis befaring\n×Gratis befaring \n\n                \n                        \n                             \n							"*" obligatorisk felt \n                        \n                        Jeg ønsker...*\n								\n								Pristilbud\n							\n								\n								Gratis befaring (anbefalt for nøyaktig pris)\n							Produkttype*\n								\n								Luft/Luft (Mest vanlig)\n							\n								\n								Luft/Vann\n							\n								\n								Væske/Vann (Bergvarme)\n							\n								\n								Næring/Industri\n							\n								\n								Service på varmepumpe\n							FinansieringØnsker du tilbud på 24 måneder delbetaling av varmepumpen? \nKlikk her for mer informasjon\n								\n								Ja\, jeg ønsker tilbud på 24 måneder delbetaling\n							Navn*Gateadresse*Postnr.*Poststed*E-post*\n                            \n                        Telefon*KommentarRaskt svar fra lokal forhandler – gratis og uforpliktende\n          \n            \n            \n            \n            \n            \n            \n            \n            \n            \n            \n            \n            \n            \n        \n                        \n                        \n\nClose
URL:https://daikin.no/event/jessheimdagene/
LOCATION:Jessheimdagene\, Storgata\, Jessheim\, 2050
CATEGORIES:Romerike
ATTACH;FMTTYPE=image/jpeg:https://daikin.no/wp-content/uploads/2023/07/Jessheim_1000x1000px.jpg
END:VEVENT
END:VCALENDAR