BEGIN:VCALENDAR
VERSION:2.0
PRODID:-//Daikin Norway - ECPv6.15.20//NONSGML v1.0//EN
CALSCALE:GREGORIAN
METHOD:PUBLISH
X-WR-CALNAME:Daikin Norway
X-ORIGINAL-URL:https://daikin.no
X-WR-CALDESC:Arrangement for Daikin Norway
REFRESH-INTERVAL;VALUE=DURATION:PT1H
X-Robots-Tag:noindex
X-PUBLISHED-TTL:PT1H
BEGIN:VTIMEZONE
TZID:UTC
BEGIN:STANDARD
TZOFFSETFROM:+0000
TZOFFSETTO:+0000
TZNAME:UTC
DTSTART:20220101T000000
END:STANDARD
END:VTIMEZONE
BEGIN:VEVENT
DTSTART;VALUE=DATE:20230525
DTEND;VALUE=DATE:20230526
DTSTAMP:20260421T022930
CREATED:20230330T093854Z
LAST-MODIFIED:20230331T064710Z
UID:10000069-1684972800-1685059199@daikin.no
SUMMARY:Varmepumpedag Horten
DESCRIPTION:Grytnes Elektriske inviterer til Daikin utstilling på Sjøsiden kjøpesenter i Horten. Så om du er på jakt etter ny Daikin varmepumpe eller aircondition er det bare å ta turen innom Daikin varmepumpestanden for et godt varmepumpetilbud eller bare for en hyggelig varmepumpeprat. \nÅPNINGSTIDER:\nTorsdag: 10:00 – 18:00 \nIkke anledning til å besøke oss? Ta kontakt for en gratis befaring\nGratis befaring\n×Gratis befaring \nOpps\, fant ikke skjemaet. \nClose
URL:https://daikin.no/event/varmepumpedag-horten/
LOCATION:Sjøsiden kjøpesenter\, Teatergata 6\, Horten\, 3187
ATTACH;FMTTYPE=image/jpeg:https://daikin.no/wp-content/uploads/2023/03/Horten_1000x1000px.jpg
END:VEVENT
END:VCALENDAR